BEGIN:VCALENDAR
VERSION:2.0
PRODID:-//hacksw/handcal//NONSGML v1.0//EN
BEGIN:VEVENT
SUMMARY:Eliminatoires Simples M3 et M4 a TRITH
UID:24b7c2a1-12d5-447b-adba-aa93dbd6edc0
DTSTART:20260419T060000Z
DTEND:20260419T180000Z
LOCATION:Localisation RUE BESSSEMER  TRITH
CATEGORIES:Sportif
STATUS:
URL;VALUE=URI:https://boule-ferree-roncquoise.sportsregions.fr/evenements/2026/04/19/eliminatoires-simples-m3-et-m4-a-trith-2442512
END:VEVENT
END:VCALENDAR
